BEGIN:VCALENDAR
VERSION:2.0
PRODID:-//Pardo Suizo - ECPv6.15.20//NONSGML v1.0//EN
CALSCALE:GREGORIAN
METHOD:PUBLISH
X-ORIGINAL-URL:https://asopardocolombia.co
X-WR-CALDESC:Eventos para Pardo Suizo
REFRESH-INTERVAL;VALUE=DURATION:PT1H
X-Robots-Tag:noindex
X-PUBLISHED-TTL:PT1H
BEGIN:VTIMEZONE
TZID:America/Bogota
BEGIN:STANDARD
TZOFFSETFROM:-0500
TZOFFSETTO:-0500
TZNAME:-05
DTSTART:20250101T000000
END:STANDARD
END:VTIMEZONE
BEGIN:VEVENT
DTSTART;TZID=America/Bogota:20261101T000000
DTEND;TZID=America/Bogota:20261130T000000
DTSTAMP:20260420T224103
CREATED:20260322T191124Z
LAST-MODIFIED:20260322T192643Z
UID:3670-1793491200-1795996800@asopardocolombia.co
SUMMARY:Congreso Nacional de Ganaderos
DESCRIPTION:41° Congreso organizado por Fedegán\, principal escenario gremial del año.
URL:https://asopardocolombia.co/event/congreso-nacional-de-ganaderos/
CATEGORIES:Eventos Nacionales
ATTACH;FMTTYPE=image/webp:https://asopardocolombia.co/wp-content/uploads/2026/03/Ganaderia.webp
END:VEVENT
END:VCALENDAR