BEGIN:VCALENDAR
VERSION:2.0
PRODID:-//Pardo Suizo - ECPv6.15.20//NONSGML v1.0//EN
CALSCALE:GREGORIAN
METHOD:PUBLISH
X-WR-CALNAME:Pardo Suizo
X-ORIGINAL-URL:https://asopardocolombia.co
X-WR-CALDESC:Eventos para Pardo Suizo
REFRESH-INTERVAL;VALUE=DURATION:PT1H
X-Robots-Tag:noindex
X-PUBLISHED-TTL:PT1H
BEGIN:VTIMEZONE
TZID:America/Bogota
BEGIN:STANDARD
TZOFFSETFROM:-0500
TZOFFSETTO:-0500
TZNAME:-05
DTSTART:20250101T000000
END:STANDARD
END:VTIMEZONE
BEGIN:VEVENT
DTSTART;TZID=America/Bogota:20261002T000000
DTEND;TZID=America/Bogota:20261031T000000
DTSTAMP:20260420T231823
CREATED:20260322T181012Z
LAST-MODIFIED:20260322T181859Z
UID:3667-1790899200-1793404800@asopardocolombia.co
SUMMARY:Feria Ganadera de Yacopí
DESCRIPTION:Feria regional con exhibición de ganado\, mejoramiento genético y transferencia de tecnología.
URL:https://asopardocolombia.co/event/feria-ganadera-de-yacopi/
CATEGORIES:Eventos Nacionales
ATTACH;FMTTYPE=image/jpeg:https://asopardocolombia.co/wp-content/uploads/2026/03/yacopi.jpg
END:VEVENT
END:VCALENDAR