BEGIN:VCALENDAR
VERSION:2.0
PRODID:-//Pardo Suizo - ECPv6.15.20//NONSGML v1.0//EN
CALSCALE:GREGORIAN
METHOD:PUBLISH
X-WR-CALNAME:Pardo Suizo
X-ORIGINAL-URL:https://asopardocolombia.co
X-WR-CALDESC:Eventos para Pardo Suizo
REFRESH-INTERVAL;VALUE=DURATION:PT1H
X-Robots-Tag:noindex
X-PUBLISHED-TTL:PT1H
BEGIN:VTIMEZONE
TZID:America/Bogota
BEGIN:STANDARD
TZOFFSETFROM:-0500
TZOFFSETTO:-0500
TZNAME:-05
DTSTART:20250101T000000
END:STANDARD
END:VTIMEZONE
BEGIN:VEVENT
DTSTART;TZID=America/Bogota:20260923T000000
DTEND;TZID=America/Bogota:20260925T000000
DTSTAMP:20260420T215605
CREATED:20260322T172917Z
LAST-MODIFIED:20260322T173147Z
UID:3661-1790121600-1790294400@asopardocolombia.co
SUMMARY:European Brown Swiss Conference
DESCRIPTION:Congreso y conferencia de la Federación Europea de Pardo Suizo.
URL:https://asopardocolombia.co/event/european-brown-swiss-conference/
CATEGORIES:Eventos Internacionales
ATTACH;FMTTYPE=image/avif:https://asopardocolombia.co/wp-content/uploads/2026/03/8225cc_55e15afb7f944abb9aeee98398f90852mv2.avif
END:VEVENT
END:VCALENDAR